BEGIN:VCALENDAR
VERSION:2.0
PRODID:-//81.169.145.77//NONSGML kigkonsult.se iCalcreator 2.20//
CALSCALE:GREGORIAN
METHOD:PUBLISH
X-WR-TIMEZONE:UTC
BEGIN:VEVENT
UID:event332@Rheinische-Provence
DTSTAMP:20260421T085958Z
CATEGORIES:Tangosalon
DESCRIPTION:Lesung: Erst grau dann weiß dann blau\nKategorie: Tangosalon\nI
 CS-Link: https://www.rheinische-provence.de/index.php?option=com_jem&view=
 event&id=332:lesung-erst-grau-dann-weiss-dann-blau\n
DTSTART:20161110T193000Z
DTEND:20161110T193000Z
LOCATION:Gelbe Villa\,Nussallee 27\,50354 Hürth
SUMMARY:Lesung: Erst grau dann weiß dann blau
URL:https://www.rheinische-provence.de/index.php?option=com_jem&view=event&
 id=332:lesung-erst-grau-dann-weiss-dann-blau
END:VEVENT
END:VCALENDAR