BEGIN:VCALENDAR
VERSION:2.0
PRODID:-//81.169.145.77//NONSGML kigkonsult.se iCalcreator 2.20//
CALSCALE:GREGORIAN
METHOD:PUBLISH
X-WR-TIMEZONE:UTC
BEGIN:VEVENT
UID:event356@Rheinische-Provence
DTSTAMP:20260421T090146Z
CATEGORIES:Lesung
DESCRIPTION:Die Prinzessin auf der Erbse\nKategorie: Lesung\nICS-Link: http
 s://www.rheinische-provence.de/index.php?option=com_jem&view=event&id=356:
 die-prinzessin-auf-der-erbse\n
DTSTART:20171001T150000Z
DTEND:20171001T150000Z
LOCATION:Gelbe Villa\,Nussallee 27\,50354 Hürth
SUMMARY:Die Prinzessin auf der Erbse
URL:https://www.rheinische-provence.de/index.php?option=com_jem&view=event&
 id=356:die-prinzessin-auf-der-erbse
END:VEVENT
END:VCALENDAR