BEGIN:VCALENDAR
VERSION:2.0
PRODID:-//81.169.145.77//NONSGML kigkonsult.se iCalcreator 2.20//
CALSCALE:GREGORIAN
METHOD:PUBLISH
X-WR-TIMEZONE:UTC
BEGIN:VEVENT
UID:event388@Rheinische-Provence
DTSTAMP:20260421T090453Z
CATEGORIES:Lesung
DESCRIPTION:Der Zauberer von Oz - eine musikalische Reise\nKategorie: Lesun
 g\nICS-Link: https://www.rheinische-provence.de/index.php?option=com_jem&v
 iew=event&id=388:der-zauberer-von-oz-eine-musikalische-reise\n
DTSTART:20191013T150000Z
DTEND:20191013T150000Z
LOCATION:Gelbe Villa\,Nussallee 27\,50354 Hürth
SUMMARY:Der Zauberer von Oz - eine musikalische Reise
URL:https://www.rheinische-provence.de/index.php?option=com_jem&view=event&
 id=388:der-zauberer-von-oz-eine-musikalische-reise
END:VEVENT
END:VCALENDAR