BEGIN:VCALENDAR
VERSION:2.0
PRODID:-//81.169.145.77//NONSGML kigkonsult.se iCalcreator 2.20//
CALSCALE:GREGORIAN
METHOD:PUBLISH
X-WR-TIMEZONE:UTC
BEGIN:VEVENT
UID:event400@Rheinische-Provence
DTSTAMP:20260421T090941Z
CATEGORIES:Puppenspiel
DESCRIPTION:Mord im Orientexpress\nKategorie: Puppenspiel\nICS-Link: https:
 //www.rheinische-provence.de/index.php?option=com_jem&view=event&id=400:mo
 rd-im-orientexpress\n
DTSTART:20200517T150000Z
DTEND:20200517T150000Z
SUMMARY:Mord im Orientexpress
URL:https://www.rheinische-provence.de/index.php?option=com_jem&view=event&
 id=400:mord-im-orientexpress
END:VEVENT
END:VCALENDAR