BEGIN:VCALENDAR
VERSION:2.0
PRODID:-//81.169.145.77//NONSGML kigkonsult.se iCalcreator 2.20//
CALSCALE:GREGORIAN
METHOD:PUBLISH
X-WR-TIMEZONE:UTC
BEGIN:VEVENT
UID:event458@Rheinische-Provence
DTSTAMP:20260421T125542Z
CATEGORIES:Lesung
DESCRIPTION:Der Kobold von Kendenich\nKategorie: Lesung\nICS-Link: https://
 www.rheinische-provence.de/index.php?option=com_jem&view=event&id=458:der-
 kobold-von-kendenich\n
DTSTART:20231014T160000Z
DTEND:20231014T160000Z
LOCATION:Gelbe Villa\,Nussallee 27\,50354 Hürth
SUMMARY:Der Kobold von Kendenich
URL:https://www.rheinische-provence.de/index.php?option=com_jem&view=event&
 id=458:der-kobold-von-kendenich
END:VEVENT
END:VCALENDAR